BEGIN:VCALENDAR
VERSION:2.0
PRODID:
BEGIN:VEVENT
UID:142987mad
DTSTAMP:20260425T191651Z
DTSTART:20270128T190000Z
DTEND:20270128T204000Z
SUMMARY: Don Farmer's IRS Notices Every Tax Pro Should Recognize & How to Respond (2 hours - late morning) - Webcast
DESCRIPTION: This course reviews the most common and consequential IRS notices received by tax practitioners. Participants will learn how to quickly identify notice types\, assess urgency\, and respond effectively to minimize client exposure. Emphasis is placed on procedural rights\, deadlines\, and best practices for correspondence.
CLASS:PUBLIC
END:VEVENT
END:VCALENDAR
