BEGIN:VCALENDAR
VERSION:2.0
PRODID:
BEGIN:VEVENT
UID:142986mad
DTSTAMP:20260421T024331Z
DTSTART:20270121T190000Z
DTEND:20270121T204000Z
SUMMARY: Don Farmer's Reasonable Cause Penalty Abatement: What Actually Works (2 hours - late morning) - Webcast
DESCRIPTION: This course focuses on practical strategies for obtaining IRS penalty abatement based on reasonable causes. Participants will review statutory standards\, IRS administrative guidance\, and real-world success factors. Emphasis is placed on documentation\, narrative development\, and distinguishing reasonable cause from first-time abatement.
CLASS:PUBLIC
END:VEVENT
END:VCALENDAR
