BEGIN:VCALENDAR
VERSION:2.0
PRODID:
BEGIN:VEVENT
UID:142983mad
DTSTAMP:20260421T024332Z
DTSTART:20261230T150000Z
DTEND:20261230T164000Z
SUMMARY: Don Farmer's Difficult Tax Forms (2 hours - morning) - Webcast
DESCRIPTION: This intermediate-level course provides a focused review of complex and frequently misunderstood federal tax forms encountered in business and individual tax compliance. Participants will examine selected forms that present heightened technical complexity\, increased documentation requirements\, or significant penalty exposure. Emphasis is placed on reporting mechanics\, computational challenges\, and common compliance errors. Practical examples illustrate areas of IRS scrutiny and reinforce strategies to improve accuracy and consistency in return preparation and review.
CLASS:PUBLIC
END:VEVENT
END:VCALENDAR
