BEGIN:VCALENDAR
VERSION:2.0
PRODID:
BEGIN:VEVENT
UID:142982mad
DTSTAMP:20260421T134736Z
DTSTART:20261208T190000Z
DTEND:20261208T204000Z
SUMMARY: Don Farmer's Loss Limitations: §461(l)\, Basis\, At-Risk & PAL Coordination (2 hours - late morning) - Webcast
DESCRIPTION: This course provides a comprehensive framework for navigating the multiple loss limitation regimes applicable to business and investment activities. Participants will learn the correct sequencing and coordination of basis\, at-risk\, passive activity\, and excess business loss rules. The course emphasizes compliance accuracy and planning strategies to maximize allowable losses.
CLASS:PUBLIC
END:VEVENT
END:VCALENDAR
