BEGIN:VCALENDAR
VERSION:2.0
PRODID:
BEGIN:VEVENT
UID:142976mad
DTSTAMP:20260420T224412Z
DTSTART:20260924T180000Z
DTEND:20260924T194000Z
SUMMARY: Don Farmer's Section 199A Deduction: Complex Ownership & Aggregation Rules (2 hours - late morning) - Webcast
DESCRIPTION: This course addresses advanced §199A issues affecting partnerships\, S corporations\, and complex ownership structures. Participants will examine aggregation elections\, SSTB limitations\, W-2 wage and qualified property tests\, and tiered entity complications. The course emphasizes practical application and documentation requirements to support the qualified business income deduction\n 
CLASS:PUBLIC
END:VEVENT
END:VCALENDAR
