BEGIN:VCALENDAR
VERSION:2.0
PRODID:
BEGIN:VEVENT
UID:142975mad
DTSTAMP:20260420T222559Z
DTSTART:20260924T140000Z
DTEND:20260924T154000Z
SUMMARY: Don Farmer's Tax-Exempt & International Forms (2 hours - morning) - Webcast
DESCRIPTION: This intermediate-level course provides a focused review of federal reporting requirements for tax-exempt organizations and selected international information returns. Participants will examine key compliance components of Form 990\, including governance disclosures and unrelated business income considerations\, as well as commonly encountered international reporting forms such as Forms 5471\, 8865\, and 8938. The course emphasizes reporting mechanics\, disclosure requirements\, penalty exposure\, and common filing errors. Practical examples highlight areas of heightened IRS scrutiny and documentation considerations\n 
CLASS:PUBLIC
END:VEVENT
END:VCALENDAR
