BEGIN:VCALENDAR
VERSION:2.0
PRODID:
BEGIN:VEVENT
UID:142974mad
DTSTAMP:20260422T095509Z
DTSTART:20260923T140000Z
DTEND:20260923T154000Z
SUMMARY: Don Farmer's Demystifying Sales Tax (2 hours - morning) - Webcast
DESCRIPTION: Join us for a focused\, insightful session on sales and use tax hosted by Charli Harrell and Aldo Rodriguez\, sales tax subject matter experts. This event is designed to help tax professionals confidently navigate one of the most misunderstood areas of state and local taxation. With a spotlight on 2026 updates and real-world examples\, this webinar will equip you with guidance to protect your clients from sales tax surprises and stay ahead of changing laws. Whether you're advising startups or established businesses\, you’ll leave with new knowledge\, practical tools\, and a stronger foundation in sales tax compliance. \n  
CLASS:PUBLIC
END:VEVENT
END:VCALENDAR
