BEGIN:VCALENDAR
VERSION:2.0
PRODID:
BEGIN:VEVENT
UID:142973mad
DTSTAMP:20260420T223235Z
DTSTART:20260922T180000Z
DTEND:20260922T194000Z
SUMMARY: Don Farmer's Cryptocurrency Taxation: Tracking\, Reporting & IRS Enforcement (2 hours - late morning) - Webcast
DESCRIPTION: As IRS scrutiny of digital assets intensifies\, CPAs must stay current on cryptocurrency taxation and reporting requirements. This focused 2-hour course provides a practical update on the federal income tax treatment of cryptocurrency transactions\, emerging reporting rules\, and current IRS enforcement initiatives\n \nParticipants will review the tax implications of common digital asset transactions\, including sales\, exchanges\, mining\, staking\, hard forks\, and airdrops. The program emphasizes reporting requirements\, including the Form 1040 digital asset question\, Form 8949 reporting\, and new broker reporting developments such as Form 1099-DA. Special attention is given to audit risk factors\, documentation standards\, and practitioner responsibilities in an evolving regulatory environment\n \nThis session is designed to equip tax professionals with the tools needed to ensure compliance and confidently advise clients in today’s increasingly regulated digital asset landscape\n 
CLASS:PUBLIC
END:VEVENT
END:VCALENDAR
