BEGIN:VCALENDAR
VERSION:2.0
PRODID:
BEGIN:VEVENT
UID:142972mad
DTSTAMP:20260420T222041Z
DTSTART:20260827T140000Z
DTEND:20260827T154000Z
SUMMARY: Don Farmer's Trusts\, Estates & Gift Tax Forms (2 hours - morning) - Webcast
DESCRIPTION: This intermediate-level course provides a focused review of federal income and transfer tax reporting for trusts\, estates\, and taxable gifts. Participants will examine key reporting requirements and filing mechanics for Forms 1041 and 709\, including income distribution deductions\, Schedule K-1 reporting\, and taxable gift calculations. The course emphasizes fiduciary accounting considerations\, compliance risks\, and common preparation errors. Practical examples reinforce accurate reporting and documentation standards in fiduciary and gift tax return preparation\n 
CLASS:PUBLIC
END:VEVENT
END:VCALENDAR
