BEGIN:VCALENDAR
VERSION:2.0
PRODID:
BEGIN:VEVENT
UID:142971mad
DTSTAMP:20260420T221334Z
DTSTART:20260826T180000Z
DTEND:20260826T194000Z
SUMMARY: Don Farmer's Top 10 Partnership Return Issues & How to Avoid Them (2 hours - late morning) - Webcast
DESCRIPTION: Partnership taxation remains one of the most complex and high-risk areas of federal tax compliance. From basis calculations and allocation rules to disguised sales\, debt allocations\, and partnership audit exposure\, even experienced CPAs can encounter technical pitfalls that create significant financial and professional risk. \n  \nThis two-hour program examines the top 10 partnership tax issues most frequently encountered in practice. Designed specifically for CPAs advising partnerships and partners\, the course provides practical guidance to identify\, analyze\, and avoid common compliance errors under Subchapter K. Through real-world examples and application of current tax law\, participants will strengthen their technical proficiency and improve the quality of client advisory services\n 
CLASS:PUBLIC
END:VEVENT
END:VCALENDAR
