BEGIN:VCALENDAR
VERSION:2.0
PRODID:
BEGIN:VEVENT
UID:142970mad
DTSTAMP:20260420T222155Z
DTSTART:20260819T180000Z
DTEND:20260819T194000Z
SUMMARY: Don Farmer's Partnership Basis Deep Deep Dive: Inside vs. Outside Basis (2 hours - late morning) - Webcast
DESCRIPTION: This course provides an in-depth examination of partnership basis concepts\, focusing on the distinction and interaction between inside and outside basis. Participants will analyze contributions\, allocations\, distributions\, liabilities\, and basis adjustments that commonly lead to reporting errors. Emphasis is placed on reconciling partner capital accounts\, K-1 reporting\, and tax basis schedules.
CLASS:PUBLIC
END:VEVENT
END:VCALENDAR
