BEGIN:VCALENDAR
VERSION:2.0
PRODID:
BEGIN:VEVENT
UID:142969mad
DTSTAMP:20260420T222830Z
DTSTART:20260723T180000Z
DTEND:20260723T194000Z
SUMMARY: Don Farmer's Passive Activity Losses: Navigating Real Estate & K-1 Limitations (2 hours - late morning) - Webcast
DESCRIPTION: This course explores the complex passive activity loss (PAL) rules under §469 with a focus on real estate activities and partnership K-1 reporting. Participants will learn how material participation\, real estate professional status\, grouping elections\, and disposition rules affect the deductibility of losses. Practical examples demonstrate how PAL rules interact with basis\, at-risk\, and §461(l) limitations.
CLASS:PUBLIC
END:VEVENT
END:VCALENDAR
