BEGIN:VCALENDAR
VERSION:2.0
PRODID:
BEGIN:VEVENT
UID:142953teh
DTSTAMP:20260421T062757Z
DTSTART:20260618T180000Z
DTEND:20260618T194000Z
SUMMARY: Don Farmer's Advanced Schedule A Planning: SALT Caps\, AMT & Bunching Strategies (2 hours - late morning) - Webcast
DESCRIPTION: This course provides an advanced analysis of Schedule A planning strategies in a post-TCJA environment. Participants will examine the SALT deduction limitation\, alternative minimum tax (AMT) interactions\, charitable contribution timing\, and medical expense planning. Through real-world examples\, the course emphasizes how to optimize itemized deductions using bunching strategies\, state tax workaround considerations\, and timing techniques for high-income taxpayers.
CLASS:PUBLIC
END:VEVENT
END:VCALENDAR
