BEGIN:VCALENDAR
VERSION:2.0
PRODID:
BEGIN:VEVENT
UID:142084mb
DTSTAMP:20260422T224541Z
DTSTART:20260603T140000Z
DTEND:20260603T153000Z
SUMMARY: The AI Advantage: Leveraging AI for Efficiency and Impact (1.5 hours)
DESCRIPTION: Artificial Intelligence is no longer a future concept-it's transforming the accounting and finance profession today. In this fast-paced session\, discover how AI-driven tools and strategies are revolutionizing workflows\, improving decision-making\, and driving business impact.
CLASS:PUBLIC
END:VEVENT
END:VCALENDAR
