BEGIN:VCALENDAR
VERSION:2.0
PRODID:
BEGIN:VEVENT
UID:142083mb
DTSTAMP:20260424T105726Z
DTSTART:20260508T130000Z
DTEND:20260508T143000Z
SUMMARY: Bold Moves: Thriving in a Time of Transformation (1.5 hours) [NT]
DESCRIPTION: In today's rapidly evolving business landscape\, accounting professionals must lead with agility and foresight to drive meaningful change. This dynamic session brings together three industry experts to provide insights into the major trends reshaping the accounting profession and how CPAs can adapt to stay ahead.
CLASS:PUBLIC
END:VEVENT
END:VCALENDAR
