BEGIN:VCALENDAR
VERSION:2.0
PRODID:
BEGIN:VEVENT
UID:141575mb
DTSTAMP:20260420T000556Z
DTSTART:20260629T140000Z
DTEND:20260629T154700Z
SUMMARY: Analytical Procedures for Nonprofits (2 hours)
DESCRIPTION: Strong analytical procedures are critical for evaluating the fair presentation of financial statements. In addition\, Financial statements are only as good as the information and trends that they produce for operational\, strategic\, or compliance purposes. This course will provide insights into how to determine the strength and efficiency of nonprofits in achieving objectives and knowledge to improve the analysis of the fair presentation of a nonprofit's financial statements.  \n  
CLASS:PUBLIC
END:VEVENT
END:VCALENDAR
