BEGIN:VCALENDAR
VERSION:2.0
PRODID:
BEGIN:VEVENT
UID:141506mb
DTSTAMP:20260420T090521Z
DTSTART:20260622T160000Z
DTEND:20260622T174900Z
SUMMARY: Cash Management: Strategies for Long-Term Success (2 hours)
DESCRIPTION: Many finance departments spend considerable time managing cash\, particularly if the organization is highly leveraged or cash rich.  Many opportunities exist to reduce your financing costs or increase short-term cash returns if you manage cash effectively.  This session will cover a wide variety of day-to-day cash management tools.  \n  
CLASS:PUBLIC
END:VEVENT
END:VCALENDAR
