BEGIN:VCALENDAR
VERSION:2.0
PRODID:
BEGIN:VEVENT
UID:141504mb
DTSTAMP:20260420T091400Z
DTSTART:20260622T150000Z
DTEND:20260622T170000Z
SUMMARY: Schedule C of Form 1040 (2 hours)
DESCRIPTION: Many self-employed or sole proprietors find themselves having to navigate Schedule C in reporting business income.  While this attachment to Form 1040 seems straightforward on the surface\, there are many traps for the unwary. This course is ideal for CPAs\, EAs\, or other tax professionals.\n  

**Please Note:  If you need credit reported to the IRS for this IRS approved program\, please download the IRS CE request form on the Course Materials Tab and submit to <a href="mailto:kori.herrera@acpen.com" target="_blank">kori.herrera@acpen.com</a>\n 
CLASS:PUBLIC
END:VEVENT
END:VCALENDAR
