BEGIN:VCALENDAR
VERSION:2.0
PRODID:
BEGIN:VEVENT
UID:141417mb
DTSTAMP:20260420T064159Z
DTSTART:20260615T170000Z
DTEND:20260615T184600Z
SUMMARY: Getting the Most When Selling a Business: Little Details to Get Top Value (2 hours)
DESCRIPTION: Every business will be sold eventually. When you have built a great business and decide to move on &ndash\; you want the most you can get for that terrific organization! What are the steps to take to maximize the value realized? What do buyers really want? What are the three levers to achieve maximum value? If you want top dollar\, preparing to sell takes years of planning. This seminar helps CEOs\, entrepreneurs\, CFOs\, Board members\, controllers\, and their advisors prepare for a successful sale of the organization to maximize shareholder value. We will outline the process to get the most bang for the buck. Proper exit planning demands planning and time.\n  
CLASS:PUBLIC
END:VEVENT
END:VCALENDAR
