BEGIN:VCALENDAR
VERSION:2.0
PRODID:
BEGIN:VEVENT
UID:141325mb
DTSTAMP:20260422T082447Z
DTSTART:20260606T200000Z
DTEND:20260606T220000Z
SUMMARY: Planning in an Uncertain World (2 hours)
DESCRIPTION: We all make predictions in our personal and professional lives. We base our decisions to marry\, buy a house\, launch a new product or hire staff on expectations about the future. In the past few years\, research into improving predictions has advanced. We will look at this research and current best practices in forecasting to help us prepare better budgets and projections. \n  
CLASS:PUBLIC
END:VEVENT
END:VCALENDAR
