BEGIN:VCALENDAR
VERSION:2.0
PRODID:
BEGIN:VEVENT
UID:141268mb
DTSTAMP:20260422T195052Z
DTSTART:20260602T143000Z
DTEND:20260602T153700Z
SUMMARY: The SECURE Act 2.0 - Planning Opportunities for Individuals (1.2 hours)
DESCRIPTION: The Secure Act 2.0 was passed in a flurry of year-end legislation. This one hour program will cover the important changes that individuals need to know about contributions to accounts and new ways of accessing these funds.  This course will provide a concise look at these hot topics.  \n  

**Please Note:  If you need credit reported to the IRS for this IRS approved program\, please download the IRS CE request form on the Course Materials Tab and submit to kori.herrera@acpen.com\n 
CLASS:PUBLIC
END:VEVENT
END:VCALENDAR
