BEGIN:VCALENDAR
VERSION:2.0
PRODID:
BEGIN:VEVENT
UID:141265mb
DTSTAMP:20260421T142945Z
DTSTART:20260601T210000Z
DTEND:20260601T224600Z
SUMMARY: Change Management: Your Leadership Role for Aligning Profits & Culture (2 hours) [NT]
DESCRIPTION: This is a dynamic course tailored for seasoned accountants who are looking to elevate their skills in navigating and leading through organizational change. This advanced program focuses on enhancing agility by providing the tools and techniques necessary to manage and adapt to rapid shifts in the accounting landscape. Participants will explore theoretical frameworks alongside practical strategies that support effective change management for diverse business environments\n 
CLASS:PUBLIC
END:VEVENT
END:VCALENDAR
