BEGIN:VCALENDAR
VERSION:2.0
PRODID:
BEGIN:VEVENT
UID:141148mb
DTSTAMP:20260422T081930Z
DTSTART:20260520T183000Z
DTEND:20260520T220300Z
SUMMARY: The Power of a Good Story! (4 hours) [NT]
DESCRIPTION: Storytelling makes wisdom stick\n 
CLASS:PUBLIC
END:VEVENT
END:VCALENDAR
