BEGIN:VCALENDAR
VERSION:2.0
PRODID:
BEGIN:VEVENT
UID:141134mb
DTSTAMP:20260420T033135Z
DTSTART:20260519T180000Z
DTEND:20260519T214000Z
SUMMARY: The Art of Marketing for CPAs (4 hours) [NT]
DESCRIPTION: To make more money in less time\, all accountants need to learn to market themselves effectively to their clients or their firm. For better or worse\, promotions and more money go to those who are the best marketers\, rather than the most competent accountants.  In this fascinating and fun workshop\, participants will learn seven key ways to get more clients and/or promotions through the art of marketing\n 
CLASS:PUBLIC
END:VEVENT
END:VCALENDAR
