BEGIN:VCALENDAR
VERSION:2.0
PRODID:
BEGIN:VEVENT
UID:141132mb
DTSTAMP:20260421T234014Z
DTSTART:20260519T180000Z
DTEND:20260519T210000Z
SUMMARY: 2025 Accounting & Auditing Update (3 hours)
DESCRIPTION: Stay informed and prepared with this comprehensive annual update on the latest developments in accounting and auditing. We&#39\;ll begin with a deep dive into the Accounting Standards Updates (ASUs) effective in 2025\, followed by insights from the FAF&#39\;s 2024 PCC Review and an overview of FASB&#39\;s Invitation to Comment - Agenda Consultation\, which will shape the future of accounting standards. On the auditing side\, we&#39\;ll tackle the essential changes in quality management standards that firms must implement by the end of 2025. The session will also highlight common deficiencies identified by the DOL in EBP (Employee Benefit Plan) engagements and provide a peek at upcoming projects from the Auditing Standards Board (ASB). Join us to gain practical insights and actionable takeaways to navigate these updates with confidence\n 
CLASS:PUBLIC
END:VEVENT
END:VCALENDAR
