BEGIN:VCALENDAR
VERSION:2.0
PRODID:
BEGIN:VEVENT
UID:141112mb
DTSTAMP:20260420T064741Z
DTSTART:20260518T180000Z
DTEND:20260518T194800Z
SUMMARY: Big Picture Mega-Trends\, Big Data\, and World We Now Face (2 hours)
DESCRIPTION: It is easy for us to get caught up in our work\, but it is better to examine the &lsquo\;big picture&rsquo\; by studying the outside factors that impact our business beyond our internal processes and day to day responsibilities. We are sometimes so busy with our tasks that we miss new developments until the developments have a profound impact on us and the organization. This session is designed to review many of these current trends\, while thinking and discussing how these trends can impact our organizations and us. This is a fun and lively session that is intended to be interactive with participants either live\, virtual or both. Our ever-changing world is evolving more than many realize.\n  
CLASS:PUBLIC
END:VEVENT
END:VCALENDAR
