BEGIN:VCALENDAR
VERSION:2.0
PRODID:
BEGIN:VEVENT
UID:141094mb
DTSTAMP:20260424T081710Z
DTSTART:20260516T180000Z
DTEND:20260516T200000Z
SUMMARY: Taxation of the Cannabis Industry (2 hours)
DESCRIPTION: This course provides a comprehensive analysis of the taxation issues affecting the cannabis industry. It covers the historical context of U.S. taxation\, the distinctions between industrial hemp and marijuana\, and the specific tax codes and regulations that apply to the cannabis business. Participants will gain insights into state marijuana laws\, the unique challenges of a cash-intensive industry\, and pertinent federal court cases\n 

*Please Note:  If you need credit reported to the IRS for this IRS approved program\, please download the IRS CE request form on the Course Materials Tab and submit to <a href="mailto:kori.herrera@acpen.com">kori.herrera@acpen.com</a>\n  
CLASS:PUBLIC
END:VEVENT
END:VCALENDAR
