BEGIN:VCALENDAR
VERSION:2.0
PRODID:
BEGIN:VEVENT
UID:140942mb
DTSTAMP:20260425T042725Z
DTSTART:20260505T140000Z
DTEND:20260505T213900Z
SUMMARY: Qualified Business Income (QBI) Deduction (§199A) - The Ins & Outs
DESCRIPTION: The Tax Cuts and Jobs Act (TCJA) was a major overhaul of our tax system that lowered the income tax rates for individual and corporate taxpayers and introduced the new 20% qualified business income (QBI) deduction for sole proprietors and pass-through entities. The cornerstone of this course is the comprehensive discussion of the 20% QBI deduction final regulations under IRC §199A.   \n  \n**Please Note:  If you need credit reported to the IRS for this IRS approved program\, please download the IRS CE request form on the Course Materials Tab and submit to kori.herrera@acpen.com\n  
CLASS:PUBLIC
END:VEVENT
END:VCALENDAR
