BEGIN:VCALENDAR
VERSION:2.0
PRODID:
BEGIN:VEVENT
UID:140895mb
DTSTAMP:20260420T045253Z
DTSTART:20260429T200000Z
DTEND:20260429T205700Z
SUMMARY: Internal Control Frameworks for Single Audit (1 hour)
DESCRIPTION: The Uniform Guidance identifies COSO and the Green Book as best practices for internal controls in governmental audits. This course provides a comprehensive review of the COSO framework\, including its 2013 update\, and explores its application to the Green Book. Attendees will learn to recall the five components and 17 principles of internal control\, understand the benefits of adopting internal control frameworks\, and recognize the rationale behind the COSO 2013 update and its impact on auditing practices. Additionally\, the course will cover how to leverage Part 6 of the Compliance Supplement to effectively document internal controls\n 
CLASS:PUBLIC
END:VEVENT
END:VCALENDAR
