BEGIN:VCALENDAR
VERSION:2.0
PRODID:
BEGIN:VEVENT
UID:140888mb
DTSTAMP:20260424T105523Z
DTSTART:20260429T150000Z
DTEND:20260429T180000Z
SUMMARY: What's Going on at the AICPA (2025) (3 hours)
DESCRIPTION: The AICPA is buzzing with activity in 2025\, and this course will ensure you stay ahead of the curve. We'll begin by exploring the new quality management standards which will be effect this year and their impact on practice management. From there\, we'll dive into the latest ethics standards\, recent SSARS updates\, and changes to the Peer Review Program driven by quality management requirements. To round out the session\, we'll examine common deficiencies in employee benefit plan (EBP) audits and highlight the initiatives of the National Pipeline Advisory Group to address the talent pipeline challenge. Don't miss this comprehensive overview of what's happening at the AICPA!\n  
CLASS:PUBLIC
END:VEVENT
END:VCALENDAR
