BEGIN:VCALENDAR
VERSION:2.0
PRODID:
BEGIN:VEVENT
UID:140874mb
DTSTAMP:20260420T081109Z
DTSTART:20260428T230000Z
DTEND:20260429T010000Z
SUMMARY: Key Tax Issues for Individual Taxpayers (2 hours)
DESCRIPTION: This course addresses the most recent legislative developments impacting individual taxpayers\, with a focus on important provisions\, rules and concepts to apply when preparing client returns. \n  

**Please Note: If you need credit reported to the IRS for this IRS-approved program\, please download the IRS CE request form on the Course Materials Tab and submit to <a href="mailto:kori.herrera@acpen.com" target="_blank">kori.herrera@acpen.com</a>\n 

 \n  
CLASS:PUBLIC
END:VEVENT
END:VCALENDAR
