BEGIN:VCALENDAR
VERSION:2.0
PRODID:
BEGIN:VEVENT
UID:140849mb
DTSTAMP:20260424T080018Z
DTSTART:20260428T140000Z
DTEND:20260428T180000Z
SUMMARY: Proper Financial Accounting for Partnerships and LLCs (4 hours)
DESCRIPTION: Although they are the most common entities for small and mid-sized business\, financial (book) accounting for partnerships and LLCs are rarely discussed.  This course examines the proper financial accounting for these tax-driven entities\n 
CLASS:PUBLIC
END:VEVENT
END:VCALENDAR
