BEGIN:VCALENDAR
VERSION:2.0
PRODID:
BEGIN:VEVENT
UID:140832mb
DTSTAMP:20260420T043826Z
DTSTART:20260427T150000Z
DTEND:20260427T164600Z
SUMMARY: Change Management: Your Leadership Role for Aligning Profits & Culture (2 hours) [NT]
DESCRIPTION: This is a dynamic course tailored for seasoned accountants who are looking to elevate their skills in navigating and leading through organizational change. This advanced program focuses on enhancing agility by providing the tools and techniques necessary to manage and adapt to rapid shifts in the accounting landscape. Participants will explore theoretical frameworks alongside practical strategies that support effective change management for diverse business environments\n 
CLASS:PUBLIC
END:VEVENT
END:VCALENDAR
