BEGIN:VCALENDAR
VERSION:2.0
PRODID:
BEGIN:VEVENT
UID:140814mb
DTSTAMP:20260422T102240Z
DTSTART:20260424T170000Z
DTEND:20260424T184900Z
SUMMARY: Nonprofit Taxation Rules and Form 990 (2 hours)
DESCRIPTION: This course explores the latest tax provisions impacting non-profit entities\, including charities\, hospitals\, and universities\, with a focus on common issues CPAs may face when completing their clients Form 990\n 

*Please Note:  If you need credit reported to the IRS for this IRS approved program\, please download the IRS CE request form on the Course Materials Tab and submit to <a href="mailto:kori.herrera@acpen.com">kori.herrera@acpen.com</a>\n  
CLASS:PUBLIC
END:VEVENT
END:VCALENDAR
