BEGIN:VCALENDAR
VERSION:2.0
PRODID:
BEGIN:VEVENT
UID:140813mb
DTSTAMP:20260422T100110Z
DTSTART:20260424T170000Z
DTEND:20260424T200000Z
SUMMARY: 2025 Not-for-Profit Accounting & Auditing Update (3 hours)
DESCRIPTION: This course provides a comprehensive update on the key developments impacting not-for-profit (NFP) accounting and auditing in 2025. While the FASB hasn't recently issued NFP-specific standards\, several Accounting Standard Updates (ASUs) will significantly affect nonprofit organizations. We'll review these changes and their implications. We also explore the growing relevance of programmatic investments and their interplay with the Current Expected Credit Losses (CECL) standard\, and examine the IFR4NPO initiative\, a global project aimed at establishing universal financial reporting standards for nonprofits. On the auditing side\, we'll delve into the impact of the new quality management standards\, impacting firms that provide attestation services\, including compilations and reviews for nonprofits. This session will equip you with the insights needed to navigate these changes and stay compliant\n 
CLASS:PUBLIC
END:VEVENT
END:VCALENDAR
