BEGIN:VCALENDAR
VERSION:2.0
PRODID:
BEGIN:VEVENT
UID:140784mb
DTSTAMP:20260422T094858Z
DTSTART:20260423T170000Z
DTEND:20260423T185200Z
SUMMARY: Internal Controls That May Have Prevented Fraud (2 hours)
DESCRIPTION: This course examines actual fraud circumstances through the lens of potential prevention. We will examine how selected frauds were accomplished and consider what internal controls may have prevented fraudsters' ability to accomplish their nefarious acts\n 
CLASS:PUBLIC
END:VEVENT
END:VCALENDAR
