BEGIN:VCALENDAR
VERSION:2.0
PRODID:
BEGIN:VEVENT
UID:140783mb
DTSTAMP:20260422T095433Z
DTSTART:20260423T160000Z
DTEND:20260423T174600Z
SUMMARY: Yellow Book Ethics (2 hours)
DESCRIPTION: The Yellow Book outlines essential ethical principles for governmental auditors\, including serving the public interest\, maintaining integrity\, objectivity\, and professional behavior. This course provides a focused review of these key concepts and their practical application in governmental auditing. Participants will also explore the independence standards\, gaining insights on maintaining objectivity and avoiding conflicts of interest to ensure unbiased and professional audits\n 
CLASS:PUBLIC
END:VEVENT
END:VCALENDAR
