BEGIN:VCALENDAR
VERSION:2.0
PRODID:
BEGIN:VEVENT
UID:135054mb
DTSTAMP:20260420T045706Z
DTSTART:20260430T130000Z
DTEND:20260430T163000Z
SUMMARY: Surgent's Tax Planning for Rental Real Estate (4 hours)
DESCRIPTION: The taxation of real estate is tricky. Taxpayers can own real estate in a number of different ways\, including direct and indirect investments. There are numerous exceptions to being classified as a rental activity. How do you know if someone is a real estate professional? In this course\, we will explore all these issues and many more. Through real-world examples and discussion\, this course will delve into exceptions to rental status\, qualifications for material participation\, and requirements for active status. Additionally\, we will cover the QBI and Section 1237 safe harbors and touch on some planning ideas related to depreciation recapture.  NOTE: This course qualifies for IRS CE (PTIN) credit. To receive IRS CE credit\, please email your PTIN to profdev@orcpa.org at the end of the course. Surgent will report credit at the end of each quarter.If you have questions\, you can contact Professional Development at 503-641-7200\, ext. 3 or email <a href="mailto:profdev@orcpa.org">profdev@orcpa.org</a>.
CLASS:PUBLIC
END:VEVENT
END:VCALENDAR
