BEGIN:VCALENDAR
VERSION:2.0
PRODID:
BEGIN:VEVENT
UID:132706mb
DTSTAMP:20260420T045533Z
DTSTART:20260430T170000Z
DTEND:20260430T180000Z
SUMMARY: Cultural Transformation (1 hour) [NT]
DESCRIPTION: This course provides a complete framework for transforming the culture in your organization.  Key topics covered include: 
- What is organizational culture 
- A self assessment 
- Why culture matters 
- How to change your culture

This event may be a rebroadcast of a live event and the instructor will be available to answer your questions during the event.
CLASS:PUBLIC
END:VEVENT
END:VCALENDAR
