BEGIN:VCALENDAR
VERSION:2.0
PRODID:
BEGIN:VEVENT
UID:132683mb
DTSTAMP:20260420T063825Z
DTSTART:20260429T170000Z
DTEND:20260429T210000Z
SUMMARY: Managerial Accounting: Your Prescription for Better Decision (4 hours)
DESCRIPTION: This session revisits useful\, but potentially underutilized\, managerial accounting techniques. You will appreciate a fresh look at concepts you may not have considered since your college days. We will illustrate practical ways you can immediately implement managerial accounting analysis in your professional endeavors. 

This event may be a rebroadcast of a live event and the instructor will be available to answer your questions during the event.
CLASS:PUBLIC
END:VEVENT
END:VCALENDAR
