BEGIN:VCALENDAR
VERSION:2.0
PRODID:
BEGIN:VEVENT
UID:132681mb
DTSTAMP:20260420T063825Z
DTSTART:20260429T163000Z
DTEND:20260429T183000Z
SUMMARY: PPP Fraud and Financial Professionals (2 hours) [NT]
DESCRIPTION: Casey Crowther did not have a college education\, but he had an outstanding work ethic. With little more than a pickup truck and some hand tools\, he built a roofing company that grew. Over time\, Casey's company employed more than 100 people and generated more than $20 million in annual revenues. With a company of that size\, Casey relied upon advice from his bookkeeper when filling out financial documents. As a result of representations he made on bank statements and loan documents\, authorities charged Casey with criminal behavior related to PPP loan fraud.

What should an accounting professional learn from Casey's story? 

Stay tuned to find out!

This event may be a rebroadcast of a live event and the instructor will be available to answer your questions during the event.
CLASS:PUBLIC
END:VEVENT
END:VCALENDAR
