BEGIN:VCALENDAR
VERSION:2.0
PRODID:
BEGIN:VEVENT
UID:132641mb
DTSTAMP:20260421T122406Z
DTSTART:20260427T183000Z
DTEND:20260427T203000Z
SUMMARY: Shortcuts that Excel Users Love (2 hours) [NT]
DESCRIPTION: Many people that use Microsoft Excel know a great deal about the functionality of the application. There are\, however\, a tremendous number of hidden tools that a high percentage of users overlook. Additionally\, there are newer features that some have not had the opportunity to explore. This session shows some of the numerous time-saving tools and features that often go unused by spreadsheet creators. People that wish to become more efficient when using Excel should take this session!

This event may be a rebroadcast of a live event and the instructor will be available to answer your questions during the event.
CLASS:PUBLIC
END:VEVENT
END:VCALENDAR
