BEGIN:VCALENDAR
VERSION:2.0
PRODID:
BEGIN:VEVENT
UID:132637mb
DTSTAMP:20260421T175235Z
DTSTART:20260427T170000Z
DTEND:20260427T180000Z
SUMMARY: How to Start a CFO Service (1 hour)
DESCRIPTION: This Masterclass is a one-hour training to show accountants how they can grow their practice this year through CFO and business advisory services. 

This event may be a rebroadcast of a live event and the instructor will be available to answer your questions during the event.
CLASS:PUBLIC
END:VEVENT
END:VCALENDAR
