BEGIN:VCALENDAR
VERSION:2.0
PRODID:
BEGIN:VEVENT
UID:132626mb
DTSTAMP:20260425T103757Z
DTSTART:20260427T133000Z
DTEND:20260427T143000Z
SUMMARY: Accounting of the Soul: Making the World a Better Place (1 hour) [NT]
DESCRIPTION: This workshop explores how each of us can play a part in helping to make the world a more fair and gentler place.

This one-hour webinar includes an overview of Aristotle's virtue ethics and its application to present day life. We will focus on the virtue of compassion both individually and organizationally and its impact on individual\, organizational and world wellbeing. 

This event may be a rebroadcast of a live event and the instructor will be available to answer your questions during the event.
CLASS:PUBLIC
END:VEVENT
END:VCALENDAR
