BEGIN:VCALENDAR
VERSION:2.0
PRODID:
BEGIN:VEVENT
UID:132623mb
DTSTAMP:20260422T083554Z
DTSTART:20260427T130000Z
DTEND:20260427T150000Z
SUMMARY: Selected Ethics Topics - 2024 - 2025 (2 hours)
DESCRIPTION: This course will help you to stay current on recent changes to the AICPA Code of Professional Conduct\, as well as keep you abreast of emerging trends in ethics standards and regulatory initiatives and their potential impact on your practice. We will also explore frequent practitioner ethics compliance challenges\, including competence\, due professional care\, audit quality\, and independence.

This event may be a rebroadcast of a live event and the instructor will be available to answer your questions during the event.
CLASS:PUBLIC
END:VEVENT
END:VCALENDAR
