BEGIN:VCALENDAR
VERSION:2.0
PRODID:
BEGIN:VEVENT
UID:132612mb
DTSTAMP:20260422T100152Z
DTSTART:20260424T160000Z
DTEND:20260424T180000Z
SUMMARY: Financial Decisions that Led Two Businessmen to Prison (2 hours) [NT]
DESCRIPTION: Two college graduates built impressive careers: One worked in sales\, the other in technology and investing. Both of those people made decisions in the course of their business that led to government investigations. They had to hire attorneys\, go through judicial processes\, face charges\, and plead guilty. Each of those people are on their way to prison. Learn from the lessons they offer.

We interview both financial professionals\, and they tell us more about how their decisions influenced the consequences that followed.

This event may be a rebroadcast of a live event and the instructor will be available to answer your questions during the event.
CLASS:PUBLIC
END:VEVENT
END:VCALENDAR
