BEGIN:VCALENDAR
VERSION:2.0
PRODID:
BEGIN:VEVENT
UID:125850mb
DTSTAMP:20260420T032652Z
DTSTART:20260610T170000Z
DTEND:20260610T210000Z
SUMMARY: Ethics: Avoiding the Slippery Slope of Ethical Pressures (4 hours) [NT]
DESCRIPTION: Maintaining an ethical climate (bold) 

Being on prime-time news might seem exciting\, but not when the story is an ethics breach you committed. You may say\, "that will never happen to me". And those were the words spoken by Wells Fargo\, United Airlines\, Senator Al Franken\, and Steve Wynn. 

A claim of an ethical failure can stay in the news for almost five years. That's long enough to damage your reputation and lower your profitability. Upholding high ethical standards for yourself and your team requires constant care and feeding.
CLASS:PUBLIC
END:VEVENT
END:VCALENDAR
