BEGIN:VCALENDAR
VERSION:2.0
PRODID:
BEGIN:VEVENT
UID:125837mb
DTSTAMP:20260425T111605Z
DTSTART:20260514T180000Z
DTEND:20260514T200000Z
SUMMARY: Current Audit Environment and ASB Activity (2 hours)
DESCRIPTION: New pronouncements from ASB are covered so you can be up to date on ASB activities and understand how to apply the guidance.
CLASS:PUBLIC
END:VEVENT
END:VCALENDAR
