BEGIN:VCALENDAR
VERSION:2.0
PRODID:
BEGIN:VEVENT
UID:125831mb
DTSTAMP:20260424T105507Z
DTSTART:20260507T180000Z
DTEND:20260507T190000Z
SUMMARY: Controller Series: Insightful Financial Analysis (1 hour)
DESCRIPTION: Anyone can "crunch numbers" but it takes special skills to make them meaningful to the user. Financial statements and ratios need to be interpreted correctly using a process that sets the context\, identifies the right analysis tools\, and makes recommendations in an understandable format. This course will help you present your insights in a way that is insightful and impactful to your client.
CLASS:PUBLIC
END:VEVENT
END:VCALENDAR
